BEGIN:VCALENDAR
VERSION:2.0
PRODID:-//wp-events-plugin.com//6.6.4.4//EN
BEGIN:VEVENT
UID:1@modernchipsolutions.com
DTSTART:20240116T183000Z
DTEND:20240116T183000Z
DTSTAMP:20240913T103812Z
URL:https://modernchipsolutions.com/events/iesa-vision-summit-2024/
SUMMARY:IESA Vision Summit 2024
DESCRIPTION:\n\n\n\n\nIESA Vision Summit  hosted by India Electronics and 
 Semiconductor Association\, has always been the event to look forward for.
 \nModernize Chip Solutions team had a chance to meet the Global leaders an
 d exchanged thoughts on technology trends and industry way forward !\nThan
 ks for the insights …Guru Ganesan\,Hitesh Garg\, Ro Chawala\, Malini Nar
 ayanmoorthy\, Anurag Gupta\, Mohit Gupta\,Veerappan V V.\n\nIndustry veter
 ans joined the summit and discussed issues pertaining to semiconductor ind
 ustry specially impact of AI. Chip design\, Chiplets\, in-memory computing
 \, future of computing\, leveraging AI to enable advanced semiconductor Ma
 nufacturing\, future products\, and policies. Future designs and manufactu
 ring process will be very different than conventional one used today. AI a
 long with other technological advancements will help to shrink design time
  span\, improve power efficiency and high data processing capability.\n\nI
 ESA vision Summit was very informative and helped us to get an overview on
 :\n\n1)   Why there is a global semiconductor shortage and how can we s
 olve it?\n2)   Semiconductor companies can take different paths to capt
 ure new opportunities as demand continues to outstrip supply.\n3)   The
  semiconductor industry has become increasingly consolidated among certain
  market segments\n.4)   No local market or company has all the capabili
 ties required for end-to-end semiconductor design and manufacturing.\n5) 
   Factors behind the semiconductor shortage.\n6)   Achieving and main
 taining a leading position in the semiconductor industry\n7)   What are
  the major and critical areas of approaches that semiconductor companies c
 an rethink about.\n8)   How can the semiconductor industry keep outperf
 orming?\n\n\n\n\n\n\n\n\n\nAbout IESA Vision Summit 2024\n\n\n\n\n\nThis i
 s a significant event in India aimed at enhancing the semiconductor and el
 ectronics industry. It brings together industry leaders\, government offic
 ials\, innovators\, and experts to discuss the latest technologies\, trend
 s\, and collaborations shaping the future. Attendees can gain insights int
 o cutting-edge technologies\, disruptive innovations\, and strategic busin
 ess growth opportunities. The event also offers a platform for collaborati
 on and cross-border synergies.\n\n\n\n\n
ATTACH;FMTTYPE=image/jpeg:https://modernchipsolutions.com/wp-content/uploa
 ds/2023/11/Townhall-grp-pic-scaled.jpg
LOCATION:https://iesa-visionsummit.com/
END:VEVENT
END:VCALENDAR